BEGIN:VCALENDAR
VERSION:2.0
PRODID:icalendar-ruby
CALSCALE:GREGORIAN
METHOD:PUBLISH
BEGIN:VEVENT
DTSTAMP:20260423T030843Z
UID:5-1279086@fragranceofgrace.org
DTSTART:20261027T220000Z
DTEND:20261027T230000Z
CLASS:PUBLIC
CREATED:20260422T214853
DESCRIPTION:Join Us via Facebook: @fragranceint1\n\nand Zoom Meetings: Zoom
  ID: 2619638311\n                           Password: 539558
 \nDial: +1 646-558-8656 / 261-963-8311\nNeed prayers or guidance in any li
 fe issues? \nPlease reach out by calling: +1(301) 284-1028 or Email: info@
 fragranceofgrace.org\nA healing program for people going through mental\, 
 emotional\, spiritual\, financial and physical health challenges. The Prog
 ram will be held every Tuesday night on the ministry’s prayer-line. A bi
 -monthly or quarterly physical healing program will be held to minister to
  people in attendance. 
LAST-MODIFIED:20260422T214853
LOCATION:Online
SUMMARY:Tuesday Healing Streams
URL;VALUE=URI:https://www.fragranceofgrace.org/events/tuesday-healing-strea
 ms/2026-10-27
ATTACH;FILENAME=Artboard-2-%284%29.jpg;FMTTYPE=image/jpeg:https://dq5pwpg1q
 8ru0.cloudfront.net/2021/12/01/17/00/19/d949a3c5-39de-4791-8368-f77dfff2e9
 64/Artboard-2-%25284%2529.jpg
END:VEVENT
END:VCALENDAR
